BEGIN:VCALENDAR
VERSION:2.0
PRODID:-//hacksw/handcal//NONSGML v1.0//EN
CALSCALE:GREGORIAN
BEGIN:VTIMEZONE
TZID:America/Indiana/Knox
BEGIN:DAYLIGHT
TZOFFSETFROM:-0600
TZNAME:MDT
TZOFFSETTO:-0600
END:DAYLIGHT
END:VTIMEZONE
DTSTAMP:20260419T083709Z
UID:69e4da855a992
BEGIN:VEVENT
LOCATION:Fairmont Branch Library, 4330 Fairmont Pkwy., Pasadena, TX 77504
DESCRIPTION:<p>Join us at our Fairmont Library and prepare your child for a lifetime of learning through reading, playing, singing, and talking.</p><p>Age or grades: 0-Kinder</p><p>.</p><p>.</p><p>Acompáñanos en nuestra Biblioteca Fairmont y prepare a su hijo para una vida de aprendizaje leyendo, jugando, cantando y hablando.</p><p>Edades o grados: 0 - kínder</p>
DTSTART;TZID=America/Indiana/Knox:20260423T103000
DTEND;TZID=America/Indiana/Knox:20260423T113000
SUMMARY:FAIRMONT: Storytime
URL;VALUE=URI:/fairmont-storytime-61
END:VEVENT
END:VCALENDAR