BEGIN:VCALENDAR
VERSION:2.0
PRODID:-//hacksw/handcal//NONSGML v1.0//EN
CALSCALE:GREGORIAN
BEGIN:VTIMEZONE
TZID:America/Indiana/Knox
BEGIN:DAYLIGHT
TZOFFSETFROM:-0600
TZNAME:MDT
TZOFFSETTO:-0600
END:DAYLIGHT
END:VTIMEZONE
DTSTAMP:20260422T122255Z
UID:69e903ef43248
BEGIN:VEVENT
LOCATION:Central Library, 1201 Jeff Ginn Memorial Dr., Pasadena, TX 77506
DESCRIPTION:<p>Help the Gulf Coast Regional Blood Center save lives! Successful donors receive a power bank.&nbsp;</p><p>Visit <a class="x_OWAAutoLink" style="border-width:0px;color:rgb(70, 120, 134);font:inherit;margin:0px;padding:0px;vertical-align:baseline;" href="https://url.us.m.mimecastprotect.com/s/vrfjCmZgEWUjJ5p1hGfwHRG4hZ?domain=commitforlife.org" data-linkindex="0" title="https://url.us.m.mimecastprotect.com/s/vrfjCmZgEWUjJ5p1hGfwHRG4hZ?domain=commitforlife.org" id="OWAa26fa157-f9d1-1705-b517-137778ab6f4f" data-auth="NotApplicable" rel="noopener noreferrer" target="_blank">https://www.commitforlife.org/donor/schedules/drive_schedule/409694</a> to make an appointment.</p><p>.</p><p>.</p><p>¡Ayuda al Centro Regional de Sangre de la Costa del Golfo a salvar vidas! Los donantes exitosos reciben un banco de energía. Visita <span style="-webkit-text-stroke-width:0px;background-color:rgb(248, 244, 241);color:rgb(60, 81, 180);display:inline !important;float:none;font-family:Roboto, Helvetica, sans-serif;font-size:18px;font-style:normal;font-variant-caps:normal;font-variant-ligatures:normal;font-weight:400;letter-spacing:normal;orphans:2;text-align:start;text-decoration-color:initial;text-decoration-style:initial;text-decoration-thickness:initial;text-indent:0px;text-transform:none;white-space:pre-wrap;widows:2;word-spacing:0px;"><u>https://www.commitforlife.org/donor/schedules/drive_schedule/409694</u></span><u> </u>para hacer una cita.</p><p><br>&nbsp;</p>
DTSTART;TZID=America/Indiana/Knox:20260327T120000
DTEND;TZID=America/Indiana/Knox:20260327T163000
SUMMARY:CENTRAL: Blood Drive with Gulf Coast Reginal Blood Center
URL;VALUE=URI:/central-blood-drive-gulf-coast-reginal-blood-center-0
END:VEVENT
END:VCALENDAR