BEGIN:VCALENDAR
VERSION:2.0
PRODID:-//hacksw/handcal//NONSGML v1.0//EN
CALSCALE:GREGORIAN
BEGIN:VTIMEZONE
TZID:America/Indiana/Knox
BEGIN:DAYLIGHT
TZOFFSETFROM:-0600
TZNAME:MDT
TZOFFSETTO:-0600
END:DAYLIGHT
END:VTIMEZONE
DTSTAMP:20260419T100944Z
UID:69e4f03869949
BEGIN:VEVENT
LOCATION:Fairmont Branch Library, 4330 Fairmont Pkwy., Pasadena, TX 77504
DESCRIPTION:<p>Afterschool activity at the library that allows children of all ages to participate in discovery learning without instruction or screen time. &nbsp;</p><p>Ages or Grades: Family.</p><p>.<br>.</p><p>Actividad extracurricular en la biblioteca que permite a los niños de todas las edades participar en el aprendizaje por descubrimiento sin instrucción ni tiempo frente a la pantalla. &nbsp;</p><p>Edades o grados: Familia.<br>&nbsp;</p>
DTSTART;TZID=America/Indiana/Knox:20260224T163000
DTEND;TZID=America/Indiana/Knox:20260224T173000
SUMMARY:FAIRMONT: Board Game Frenzy
URL;VALUE=URI:/fairmont-board-game-frenzy-23
END:VEVENT
END:VCALENDAR