BEGIN:VCALENDAR
VERSION:2.0
PRODID:-//hacksw/handcal//NONSGML v1.0//EN
CALSCALE:GREGORIAN
BEGIN:VTIMEZONE
TZID:America/Indiana/Knox
BEGIN:DAYLIGHT
TZOFFSETFROM:-0600
TZNAME:MDT
TZOFFSETTO:-0600
END:DAYLIGHT
END:VTIMEZONE
DTSTAMP:20260419T080051Z
UID:69e4d2038fda7
BEGIN:VEVENT
LOCATION:Central Library, 1201 Jeff Ginn Memorial Dr., Pasadena, TX 77506
DESCRIPTION:<p style="-webkit-text-stroke-width:0px;background-color:rgb(255, 255, 255);box-sizing:inherit;color:rgb(6, 6, 6);font-family:Helvetica, Arial, sans-serif;font-size:16px;font-style:normal;font-variant-caps:normal;font-variant-ligatures:normal;font-weight:400;letter-spacing:normal;line-height:1.8;margin:0px;orphans:2;padding:0px;text-align:start;text-decoration-color:initial;text-decoration-style:initial;text-decoration-thickness:initial;text-indent:0px;text-rendering:optimizelegibility;text-transform:none;white-space:normal;widows:2;word-spacing:0px;">¿Tienes curiosidad por la costura?<br><br>Únete a nosotros para aprender a usar la máquina de coser Brother VX1445 en el PPL Maker Lab.<br><br>En la orientación, aprenderás los diferentes tipos de puntadas disponibles en la máquina y para qué se utilizan.<br><br>También tendrás práctica de costura práctica con la máquina para darte confianza y comenzar tu aventura en la costura.<br><br>Los asistentes obtendrán acceso a reservaciones privadas para trabajar y crear sus propios proyectos.</p><p style="-webkit-text-stroke-width:0px;background-color:rgb(255, 255, 255);box-sizing:inherit;color:rgb(6, 6, 6);font-family:Helvetica, Arial, sans-serif;font-size:16px;font-style:normal;font-variant-caps:normal;font-variant-ligatures:normal;font-weight:400;letter-spacing:normal;line-height:1.8;margin:0px;orphans:2;padding:0px;text-align:start;text-decoration-color:initial;text-decoration-style:initial;text-decoration-thickness:initial;text-indent:0px;text-rendering:optimizelegibility;text-transform:none;white-space:normal;widows:2;word-spacing:0px;">&nbsp;</p><p style="-webkit-text-stroke-width:0px;background-color:rgb(255, 255, 255);box-sizing:inherit;color:rgb(6, 6, 6);font-family:Helvetica, Arial, sans-serif;font-size:16px;font-style:normal;font-variant-caps:normal;font-variant-ligatures:normal;font-weight:400;letter-spacing:normal;line-height:1.8;margin:0px;orphans:2;padding:0px;text-align:start;text-decoration-color:initial;text-decoration-style:initial;text-decoration-thickness:initial;text-indent:0px;text-rendering:optimizelegibility;text-transform:none;white-space:normal;widows:2;word-spacing:0px;">Edades o grados: Adultos.</p><p style="-webkit-text-stroke-width:0px;background-color:rgb(255, 255, 255);box-sizing:inherit;color:rgb(6, 6, 6);font-family:Helvetica, Arial, sans-serif;font-size:16px;font-style:normal;font-variant-caps:normal;font-variant-ligatures:normal;font-weight:400;letter-spacing:normal;line-height:1.8;margin:0px 0px 1.3rem;orphans:2;padding:0px;text-align:start;text-decoration-color:initial;text-decoration-style:initial;text-decoration-thickness:initial;text-indent:0px;text-rendering:optimizelegibility;text-transform:none;white-space:normal;widows:2;word-spacing:0px;">Curious about sewing?&nbsp;</p><p style="-webkit-text-stroke-width:0px;background-color:rgb(255, 255, 255);box-sizing:inherit;color:rgb(6, 6, 6);font-family:Helvetica, Arial, sans-serif;font-size:16px;font-style:normal;font-variant-caps:normal;font-variant-ligatures:normal;font-weight:400;letter-spacing:normal;line-height:1.8;margin:0px 0px 1.3rem;orphans:2;padding:0px;text-align:start;text-decoration-color:initial;text-decoration-style:initial;text-decoration-thickness:initial;text-indent:0px;text-rendering:optimizelegibility;text-transform:none;white-space:normal;widows:2;word-spacing:0px;">.</p><p style="-webkit-text-stroke-width:0px;background-color:rgb(255, 255, 255);box-sizing:inherit;color:rgb(6, 6, 6);font-family:Helvetica, Arial, sans-serif;font-size:16px;font-style:normal;font-variant-caps:normal;font-variant-ligatures:normal;font-weight:400;letter-spacing:normal;line-height:1.8;margin:0px 0px 1.3rem;orphans:2;padding:0px;text-align:start;text-decoration-color:initial;text-decoration-style:initial;text-decoration-thickness:initial;text-indent:0px;text-rendering:optimizelegibility;text-transform:none;white-space:normal;widows:2;word-spacing:0px;">.</p><p style="-webkit-text-stroke-width:0px;background-color:rgb(255, 255, 255);box-sizing:inherit;color:rgb(6, 6, 6);font-family:Helvetica, Arial, sans-serif;font-size:16px;font-style:normal;font-variant-caps:normal;font-variant-ligatures:normal;font-weight:400;letter-spacing:normal;line-height:1.8;margin:0px 0px 1.3rem;orphans:2;padding:0px;text-align:start;text-decoration-color:initial;text-decoration-style:initial;text-decoration-thickness:initial;text-indent:0px;text-rendering:optimizelegibility;text-transform:none;white-space:normal;widows:2;word-spacing:0px;">Join us to learn about how to use the Brother VX1445 sewing machine at the PPL Maker Lab.&nbsp;</p><p style="-webkit-text-stroke-width:0px;background-color:rgb(255, 255, 255);box-sizing:inherit;color:rgb(6, 6, 6);font-family:Helvetica, Arial, sans-serif;font-size:16px;font-style:normal;font-variant-caps:normal;font-variant-ligatures:normal;font-weight:400;letter-spacing:normal;line-height:1.8;margin:0px 0px 1.3rem;orphans:2;padding:0px;text-align:start;text-decoration-color:initial;text-decoration-style:initial;text-decoration-thickness:initial;text-indent:0px;text-rendering:optimizelegibility;text-transform:none;white-space:normal;widows:2;word-spacing:0px;">In the orientation, you will learn the different available stitches on the machine and what they are used for.&nbsp;</p><p style="-webkit-text-stroke-width:0px;background-color:rgb(255, 255, 255);box-sizing:inherit;color:rgb(6, 6, 6);font-family:Helvetica, Arial, sans-serif;font-size:16px;font-style:normal;font-variant-caps:normal;font-variant-ligatures:normal;font-weight:400;letter-spacing:normal;line-height:1.8;margin:0px 0px 1.3rem;orphans:2;padding:0px;text-align:start;text-decoration-color:initial;text-decoration-style:initial;text-decoration-thickness:initial;text-indent:0px;text-rendering:optimizelegibility;text-transform:none;white-space:normal;widows:2;word-spacing:0px;">You will also get Hands-on sewing practice with the machine to give you confidence to begin your adventure into sewing.&nbsp;</p><p style="-webkit-text-stroke-width:0px;background-color:rgb(255, 255, 255);box-sizing:inherit;color:rgb(6, 6, 6);font-family:Helvetica, Arial, sans-serif;font-size:16px;font-style:normal;font-variant-caps:normal;font-variant-ligatures:normal;font-weight:400;letter-spacing:normal;line-height:1.8;margin:0px 0px 1.3rem;orphans:2;padding:0px;text-align:start;text-decoration-color:initial;text-decoration-style:initial;text-decoration-thickness:initial;text-indent:0px;text-rendering:optimizelegibility;text-transform:none;white-space:normal;widows:2;word-spacing:0px;">Attendees will gain access to private reservations to work on and create their own projects.</p><p style="-webkit-text-stroke-width:0px;background-color:rgb(255, 255, 255);box-sizing:inherit;color:rgb(6, 6, 6);font-family:Helvetica, Arial, sans-serif;font-size:16px;font-style:normal;font-variant-caps:normal;font-variant-ligatures:normal;font-weight:400;letter-spacing:normal;line-height:1.8;margin:0px 0px 1.3rem;orphans:2;padding:0px;text-align:start;text-decoration-color:initial;text-decoration-style:initial;text-decoration-thickness:initial;text-indent:0px;text-rendering:optimizelegibility;text-transform:none;white-space:normal;widows:2;word-spacing:0px;">Ages or grades: Adults.&nbsp;</p>
DTSTART;TZID=America/Indiana/Knox:20260223T180000
DTEND;TZID=America/Indiana/Knox:20260223T190000
SUMMARY:CENTRAL: Maker Lab Monday - Sewing Machine Orientation en Español
URL;VALUE=URI:/central-maker-lab-monday-sewing-machine-orientation-en-espanol-0
END:VEVENT
END:VCALENDAR