BEGIN:VCALENDAR
VERSION:2.0
PRODID:-//hacksw/handcal//NONSGML v1.0//EN
CALSCALE:GREGORIAN
BEGIN:VTIMEZONE
TZID:America/Indiana/Knox
BEGIN:DAYLIGHT
TZOFFSETFROM:-0600
TZNAME:MDT
TZOFFSETTO:-0600
END:DAYLIGHT
END:VTIMEZONE
DTSTAMP:20260419T082955Z
UID:69e4d8d346660
BEGIN:VEVENT
LOCATION:Fairmont Branch Library, 4330 Fairmont Pkwy., Pasadena, TX 77504
DESCRIPTION:<p>Join us for ¡Viva la Biblioteca!, a vibrant community celebration filled with lively music, cultural dance performances, make-and-take crafts, and exciting raffle prizes.&nbsp;</p><p>Bring the whole family and celebrate the joy of culture, creativity, and community at Fairmont Library!</p><p>First come first serve, while supplies last.</p><p>Ages or grades: Family.</p><p>.</p><p>.</p><p>¡Únete a nosotros para ¡Viva la Biblioteca!, una vibrante celebración comunitaria llena de música animada, actuaciones de danza cultural, artesanías para crear y llevar, y emocionantes premios de rifa.</p><p>¡Trae a toda la familia y celebra la alegría de la cultura, la creatividad y la comunidad en la Biblioteca Fairmont!</p><p>Primero en llegar, primero en ser atendido, hasta agotar existencias.</p><p>Edades o grados: Familiar.</p>
DTSTART;TZID=America/Indiana/Knox:20250920T110000
DTEND;TZID=America/Indiana/Knox:20250920T130000
SUMMARY:FAIRMONT: Viva la Biblioteca Community Celebration
URL;VALUE=URI:/fairmont-viva-la-biblioteca-community-celebration-0
END:VEVENT
END:VCALENDAR