BEGIN:VCALENDAR
VERSION:2.0
PRODID:-//hacksw/handcal//NONSGML v1.0//EN
CALSCALE:GREGORIAN
BEGIN:VTIMEZONE
TZID:America/Indiana/Knox
BEGIN:DAYLIGHT
TZOFFSETFROM:-0600
TZNAME:MDT
TZOFFSETTO:-0600
END:DAYLIGHT
END:VTIMEZONE
DTSTAMP:20260420T080401Z
UID:69e62441cd6cf
BEGIN:VEVENT
LOCATION:Central Library, 1201 Jeff Ginn Memorial Dr., Pasadena, TX 77506
DESCRIPTION:<p style="-webkit-text-stroke-width:0px;background-color:rgb(255, 255, 255);box-sizing:inherit;color:rgb(6, 6, 6);font-family:Helvetica, Arial, sans-serif;font-size:16px;font-style:normal;font-variant-caps:normal;font-variant-ligatures:normal;font-weight:400;letter-spacing:normal;line-height:1.8;margin:0px 0px 1.3rem;orphans:2;padding:0px;text-align:start;text-decoration-color:initial;text-decoration-style:initial;text-decoration-thickness:initial;text-indent:0px;text-rendering:optimizelegibility;text-transform:none;white-space:normal;widows:2;word-spacing:0px;">It's a book club without the commitment to read one specific book per month!</p><p style="-webkit-text-stroke-width:0px;background-color:rgb(255, 255, 255);box-sizing:inherit;color:rgb(6, 6, 6);font-family:Helvetica, Arial, sans-serif;font-size:16px;font-style:normal;font-variant-caps:normal;font-variant-ligatures:normal;font-weight:400;letter-spacing:normal;line-height:1.8;margin:0px 0px 1.3rem;orphans:2;padding:0px;text-align:start;text-decoration-color:initial;text-decoration-style:initial;text-decoration-thickness:initial;text-indent:0px;text-rendering:optimizelegibility;text-transform:none;white-space:normal;widows:2;word-spacing:0px;">Bring a book that you're currently reading to discuss with a group of readers and get personalized reading recommendations by library staff!</p><p style="-webkit-text-stroke-width:0px;background-color:rgb(255, 255, 255);box-sizing:inherit;color:rgb(6, 6, 6);font-family:Helvetica, Arial, sans-serif;font-size:16px;font-style:normal;font-variant-caps:normal;font-variant-ligatures:normal;font-weight:400;letter-spacing:normal;line-height:1.8;margin:0px 0px 1.3rem;orphans:2;padding:0px;text-align:start;text-decoration-color:initial;text-decoration-style:initial;text-decoration-thickness:initial;text-indent:0px;text-rendering:optimizelegibility;text-transform:none;white-space:normal;widows:2;word-spacing:0px;">Ages or Grades: Adults.</p><p style="-webkit-text-stroke-width:0px;background-color:rgb(255, 255, 255);box-sizing:inherit;color:rgb(6, 6, 6);font-family:Helvetica, Arial, sans-serif;font-size:16px;font-style:normal;font-variant-caps:normal;font-variant-ligatures:normal;font-weight:400;letter-spacing:normal;line-height:1.8;margin:0px 0px 1.3rem;orphans:2;padding:0px;text-align:start;text-decoration-color:initial;text-decoration-style:initial;text-decoration-thickness:initial;text-indent:0px;text-rendering:optimizelegibility;text-transform:none;white-space:normal;widows:2;word-spacing:0px;">.</p><p style="-webkit-text-stroke-width:0px;background-color:rgb(255, 255, 255);box-sizing:inherit;color:rgb(6, 6, 6);font-family:Helvetica, Arial, sans-serif;font-size:16px;font-style:normal;font-variant-caps:normal;font-variant-ligatures:normal;font-weight:400;letter-spacing:normal;line-height:1.8;margin:0px 0px 1.3rem;orphans:2;padding:0px;text-align:start;text-decoration-color:initial;text-decoration-style:initial;text-decoration-thickness:initial;text-indent:0px;text-rendering:optimizelegibility;text-transform:none;white-space:normal;widows:2;word-spacing:0px;">.</p><p style="-webkit-text-stroke-width:0px;background-color:rgb(255, 255, 255);box-sizing:inherit;color:rgb(6, 6, 6);font-family:Helvetica, Arial, sans-serif;font-size:16px;font-style:normal;font-variant-caps:normal;font-variant-ligatures:normal;font-weight:400;letter-spacing:normal;line-height:1.8;margin:0px;orphans:2;padding:0px;text-align:start;text-decoration-color:initial;text-decoration-style:initial;text-decoration-thickness:initial;text-indent:0px;text-rendering:optimizelegibility;text-transform:none;white-space:normal;widows:2;word-spacing:0px;">¡Es un club de lectura sin el compromiso de leer un libro específico por mes!<br><br>¡Traiga un libro que esté leyendo actualmente para discutirlo con un grupo de lectores y obtenga recomendaciones de lectura personalizadas del personal de la biblioteca!<br><br>Edades o grados: Adultos.</p>
DTSTART;TZID=America/Indiana/Knox:20250811T180000
DTEND;TZID=America/Indiana/Knox:20250811T190000
SUMMARY:CENTRAL: Bring Your Own Book Book Club
URL;VALUE=URI:/central-bring-your-own-book-book-club-24
END:VEVENT
END:VCALENDAR