BEGIN:VCALENDAR
VERSION:2.0
PRODID:-//hacksw/handcal//NONSGML v1.0//EN
CALSCALE:GREGORIAN
BEGIN:VTIMEZONE
TZID:America/Indiana/Knox
BEGIN:DAYLIGHT
TZOFFSETFROM:-0600
TZNAME:MDT
TZOFFSETTO:-0600
END:DAYLIGHT
END:VTIMEZONE
DTSTAMP:20260422T151511Z
UID:69e92c4f7c614
BEGIN:VEVENT
LOCATION:Central Library, 1201 Jeff Ginn Memorial Dr., Pasadena, TX 77506
DESCRIPTION:<p style="-webkit-text-stroke-width:0px;background-color:rgb(255, 255, 255);box-sizing:inherit;color:rgb(6, 6, 6);font-family:Helvetica, Arial, sans-serif;font-size:16px;font-style:normal;font-variant-caps:normal;font-variant-ligatures:normal;font-weight:400;letter-spacing:normal;line-height:1.8;margin:0px 0px 1.3rem;orphans:2;padding:0px;text-align:start;text-decoration-color:initial;text-decoration-style:initial;text-decoration-thickness:initial;text-indent:0px;text-rendering:optimizelegibility;text-transform:none;white-space:normal;widows:2;word-spacing:0px;">We are pleased to invite you to join our English as a Second Language (ESL) classes.&nbsp;This is a great opportunity to improve your English speaking and listening skills. Classes will consist of a 8-session course.</p><p style="-webkit-text-stroke-width:0px;background-color:rgb(255, 255, 255);box-sizing:inherit;color:rgb(6, 6, 6);font-family:Helvetica, Arial, sans-serif;font-size:16px;font-style:normal;font-variant-caps:normal;font-variant-ligatures:normal;font-weight:400;letter-spacing:normal;line-height:1.8;margin:0px 0px 1.3rem;orphans:2;padding:0px;text-align:start;text-decoration-color:initial;text-decoration-style:initial;text-decoration-thickness:initial;text-indent:0px;text-rendering:optimizelegibility;text-transform:none;white-space:normal;widows:2;word-spacing:0px;">All English beginners welcome.&nbsp;&nbsp;</p><p style="-webkit-text-stroke-width:0px;background-color:rgb(255, 255, 255);box-sizing:inherit;color:rgb(6, 6, 6);font-family:Helvetica, Arial, sans-serif;font-size:16px;font-style:normal;font-variant-caps:normal;font-variant-ligatures:normal;font-weight:400;letter-spacing:normal;line-height:1.8;margin:0px 0px 1.3rem;orphans:2;padding:0px;text-align:start;text-decoration-color:initial;text-decoration-style:initial;text-decoration-thickness:initial;text-indent:0px;text-rendering:optimizelegibility;text-transform:none;white-space:normal;widows:2;word-spacing:0px;">Ages: Adults&nbsp;</p><p style="-webkit-text-stroke-width:0px;background-color:rgb(255, 255, 255);box-sizing:inherit;color:rgb(6, 6, 6);font-family:Helvetica, Arial, sans-serif;font-size:16px;font-style:normal;font-variant-caps:normal;font-variant-ligatures:normal;font-weight:400;letter-spacing:normal;line-height:1.8;margin:0px 0px 1.3rem;orphans:2;padding:0px;text-align:start;text-decoration-color:initial;text-decoration-style:initial;text-decoration-thickness:initial;text-indent:0px;text-rendering:optimizelegibility;text-transform:none;white-space:normal;widows:2;word-spacing:0px;">.</p><p style="-webkit-text-stroke-width:0px;background-color:rgb(255, 255, 255);box-sizing:inherit;color:rgb(6, 6, 6);font-family:Helvetica, Arial, sans-serif;font-size:16px;font-style:normal;font-variant-caps:normal;font-variant-ligatures:normal;font-weight:400;letter-spacing:normal;line-height:1.8;margin:0px 0px 1.3rem;orphans:2;padding:0px;text-align:start;text-decoration-color:initial;text-decoration-style:initial;text-decoration-thickness:initial;text-indent:0px;text-rendering:optimizelegibility;text-transform:none;white-space:normal;widows:2;word-spacing:0px;">.</p><p style="-webkit-text-stroke-width:0px;background-color:rgb(255, 255, 255);box-sizing:inherit;color:rgb(6, 6, 6);font-family:Helvetica, Arial, sans-serif;font-size:16px;font-style:normal;font-variant-caps:normal;font-variant-ligatures:normal;font-weight:400;letter-spacing:normal;line-height:1.8;margin:0px 0px 1.3rem;orphans:2;padding:0px;text-align:start;text-decoration-color:initial;text-decoration-style:initial;text-decoration-thickness:initial;text-indent:0px;text-rendering:optimizelegibility;text-transform:none;white-space:normal;widows:2;word-spacing:0px;">Nos complace invitarte a unirte a nuestras clases de inglés como segundo idioma (ESL).&nbsp;Esta es una gran oportunidad para mejorar tus habilidades para hablar y escuchar en inglés. Las clases constarán de un curso de 8 sesiones.&nbsp;</p><p style="-webkit-text-stroke-width:0px;background-color:rgb(255, 255, 255);box-sizing:inherit;color:rgb(6, 6, 6);font-family:Helvetica, Arial, sans-serif;font-size:16px;font-style:normal;font-variant-caps:normal;font-variant-ligatures:normal;font-weight:400;letter-spacing:normal;line-height:1.8;margin:0px 0px 1.3rem;orphans:2;padding:0px;text-align:start;text-decoration-color:initial;text-decoration-style:initial;text-decoration-thickness:initial;text-indent:0px;text-rendering:optimizelegibility;text-transform:none;white-space:normal;widows:2;word-spacing:0px;">Todos los principiantes ingleses son bienvenidos.</p><p style="-webkit-text-stroke-width:0px;background-color:rgb(255, 255, 255);box-sizing:inherit;color:rgb(6, 6, 6);font-family:Helvetica, Arial, sans-serif;font-size:16px;font-style:normal;font-variant-caps:normal;font-variant-ligatures:normal;font-weight:400;letter-spacing:normal;line-height:1.8;margin:0px;orphans:2;padding:0px;text-align:start;text-decoration-color:initial;text-decoration-style:initial;text-decoration-thickness:initial;text-indent:0px;text-rendering:optimizelegibility;text-transform:none;white-space:normal;widows:2;word-spacing:0px;">Edades: Adultos&nbsp;</p>
DTSTART;TZID=America/Indiana/Knox:20250723T180000
DTEND;TZID=America/Indiana/Knox:20250723T190000
SUMMARY:CENTRAL: Beginning ESL Class
URL;VALUE=URI:/central-beginning-esl-class-15
END:VEVENT
END:VCALENDAR