BEGIN:VCALENDAR
VERSION:2.0
PRODID:-//hacksw/handcal//NONSGML v1.0//EN
CALSCALE:GREGORIAN
BEGIN:VTIMEZONE
TZID:America/Indiana/Knox
BEGIN:DAYLIGHT
TZOFFSETFROM:-0600
TZNAME:MDT
TZOFFSETTO:-0600
END:DAYLIGHT
END:VTIMEZONE
DTSTAMP:20260425T114933Z
UID:69ecf09d8cb2a
BEGIN:VEVENT
LOCATION:Central Library, 1201 Jeff Ginn Memorial Dr., Pasadena, TX 77506
DESCRIPTION:<p>Join us for a fun nutrition class followed by a produce and fruits distribution!</p><p>Designed for K-5th kids, this event will teach healthy eating habits while providing fresh produce to take home. Don't miss this tasty and educational opportunity!&nbsp;</p><p><strong>Location:1201 Jeff Ginn Memorial Dr, Pasadena, TX 77506</strong><br><strong>Distribution Dates: Fridays in June: 6/13, 6/20, 6/27 &amp;&nbsp;Fridays in July: 7/11, 7/18 and July 7/25.</strong></p><p>Nutrition Education Class: 3:00 PM - 3:30 PM&nbsp;(for parents &amp; K-5th grade students)<br>Produce Distribution Time: 3:30 PM - 4:00 PM</p><p><strong>Participants are required to bring their school-age child/children and partake in our</strong><br><strong>nutrition education session in order to receive produce.</strong></p><p>First come first serve, while supplies last.&nbsp;<br>&nbsp;</p><p><strong>.</strong></p><p><strong>.</strong></p><p>&nbsp;</p><p>¡Acompáñanos para una divertida clase de nutrición seguida de una distribución de frutas y verduras!<br><br>Diseñado para niños de K-5th, este evento enseñará hábitos alimenticios saludables mientras proporciona productos frescos para llevar a casa. ¡No te pierdas esta sabrosa y educativa oportunidad!&nbsp;<br><br>Ubicación:1201 Jeff Ginn Memorial Dr, Pasadena, TX 77506<br>Fechas de distribución: Viernes de junio: 13/6, 20/6, 27/6 y viernes de julio: 11/7, 18/7 y 25/7 de julio.<br><br>Clase de Educación Nutricional: 3:00 PM - 3:30 PM (para padres y estudiantes de K-5º grado)<br>Hora de distribución de productos: 3:30 p.m. - 4:00 p.m.<br><br>Se requiere que los participantes traigan a sus hijos en edad escolar y participen en nuestro<br>sesión de educación nutricional con el fin de recibir los productos.</p><p>Entrego por orden de llegada, hasta agotar existencias.<br>&nbsp;</p>
DTSTART;TZID=America/Indiana/Knox:20250613T150000
DTEND;TZID=America/Indiana/Knox:20250613T160000
SUMMARY:CENTRAL: Brighter Bites
URL;VALUE=URI:/central-brighter-bites-5
END:VEVENT
END:VCALENDAR